BEGIN:VCALENDAR
VERSION:2.0
PRODID:-//Tukios.com/
BEGIN:VEVENT
UID:5d4f0312-d078-4993-a504-a99fef85b721@www.oaksfh.com
DTSTAMP:20260421T011346Z
DTSTART:20260425T164500Z
DTEND:20260425T171500Z
SUMMARY:Interment
DESCRIPTION:
URL:https://www.oaksfh.com/obituaries/m-esther-gomez
LOCATION: 1400 S Wolf Rd  Hillside IL 60162
GEO:41.8586124;-87.9056412
END:VEVENT
END:VCALENDAR