BEGIN:VCALENDAR
VERSION:2.0
PRODID:-//Tukios.com/
BEGIN:VEVENT
UID:5e617485-878e-4d5f-b557-428c05dd55dd@www.oaksfh.com
DTSTAMP:20260421T011201Z
DTSTART:20260425T150000Z
DTEND:20260425T160000Z
SUMMARY:Funeral Service
DESCRIPTION:
URL:https://www.oaksfh.com/obituaries/m-esther-gomez
LOCATION:St. Joseph Church 330 East Fullerton Avenue  Addison IL 60101
GEO:41.9207186;-87.9803604
END:VEVENT
END:VCALENDAR