BEGIN:VCALENDAR
VERSION:2.0
PRODID:-//Tukios.com/
BEGIN:VEVENT
UID:a416a064-d4fb-4461-8647-297b44b440f6@www.oaksfh.com
DTSTAMP:20260421T011201Z
DTSTART:20260425T130000Z
DTEND:20260425T143000Z
SUMMARY:Visitation
DESCRIPTION:
URL:https://www.oaksfh.com/obituaries/m-esther-gomez
LOCATION:The Oaks Funeral Home 1201 Irving Park Rd  Itasca IL 60143
GEO:41.9671862;-87.9990097
END:VEVENT
END:VCALENDAR