BEGIN:VCALENDAR
VERSION:2.0
PRODID:-//Tukios.com/
BEGIN:VEVENT
UID:9b50316a-acfd-4203-98e1-e15f1ff59648@www.oaksfh.com
DTSTAMP:20260421T011432Z
DTSTART:20260424T200000Z
DTEND:20260425T010000Z
SUMMARY:Visitation
DESCRIPTION:
URL:https://www.oaksfh.com/obituaries/m-esther-gomez
LOCATION:The Oaks Funeral Home 1201 Irving Park Rd  Itasca IL 60143
GEO:41.9671862;-87.9990097
END:VEVENT
END:VCALENDAR